BEGIN:VCALENDAR
VERSION:2.0
PRODID:-//Village of Rycroft - ECPv6.15.20//NONSGML v1.0//EN
CALSCALE:GREGORIAN
METHOD:PUBLISH
X-WR-CALNAME:Village of Rycroft
X-ORIGINAL-URL:https://rycroft.ca
X-WR-CALDESC:Events for Village of Rycroft
REFRESH-INTERVAL;VALUE=DURATION:PT1H
X-Robots-Tag:noindex
X-PUBLISHED-TTL:PT1H
BEGIN:VTIMEZONE
TZID:America/Edmonton
BEGIN:DAYLIGHT
TZOFFSETFROM:-0700
TZOFFSETTO:-0600
TZNAME:MDT
DTSTART:20190310T090000
END:DAYLIGHT
BEGIN:STANDARD
TZOFFSETFROM:-0600
TZOFFSETTO:-0700
TZNAME:MST
DTSTART:20191103T080000
END:STANDARD
BEGIN:DAYLIGHT
TZOFFSETFROM:-0700
TZOFFSETTO:-0600
TZNAME:MDT
DTSTART:20200308T090000
END:DAYLIGHT
BEGIN:STANDARD
TZOFFSETFROM:-0600
TZOFFSETTO:-0700
TZNAME:MST
DTSTART:20201101T080000
END:STANDARD
BEGIN:DAYLIGHT
TZOFFSETFROM:-0700
TZOFFSETTO:-0600
TZNAME:MDT
DTSTART:20210314T090000
END:DAYLIGHT
BEGIN:STANDARD
TZOFFSETFROM:-0600
TZOFFSETTO:-0700
TZNAME:MST
DTSTART:20211107T080000
END:STANDARD
BEGIN:DAYLIGHT
TZOFFSETFROM:-0700
TZOFFSETTO:-0600
TZNAME:MDT
DTSTART:20220313T090000
END:DAYLIGHT
BEGIN:STANDARD
TZOFFSETFROM:-0600
TZOFFSETTO:-0700
TZNAME:MST
DTSTART:20221106T080000
END:STANDARD
END:VTIMEZONE
BEGIN:VEVENT
DTSTART;TZID=America/Edmonton:20201215T183000
DTEND;TZID=America/Edmonton:20201215T213000
DTSTAMP:20260421T221250
CREATED:20191114T233550Z
LAST-MODIFIED:20191114T233550Z
UID:1918-1608057000-1608067800@rycroft.ca
SUMMARY:Regular Council Meeting
DESCRIPTION:In the Village Chambers
URL:https://rycroft.ca/event/regular-council-meeting-4/
LOCATION:Rycroft Municipal Library\, 4732-50 St\, Rycroft\, Alberta\, T0H 3A0\, Canada
GEO:55.7567648;-118.7103166
X-APPLE-STRUCTURED-LOCATION;VALUE=URI;X-ADDRESS=Rycroft Municipal Library 4732-50 St Rycroft Alberta T0H 3A0 Canada;X-APPLE-RADIUS=500;X-TITLE=4732-50 St:geo:-118.7103166,55.7567648
END:VEVENT
BEGIN:VEVENT
DTSTART;VALUE=DATE:20201225
DTEND;VALUE=DATE:20201226
DTSTAMP:20260421T221250
CREATED:20191128T185727Z
LAST-MODIFIED:20191128T185727Z
UID:2011-1608854400-1608940799@rycroft.ca
SUMMARY:CHRISTMAS DAY
DESCRIPTION:Office Closed
URL:https://rycroft.ca/event/christmas-day-2/
LOCATION:Rycroft Village Office\, 4703 - 51 Street\, Rycroft\, Alberta\, T0H 3A0\, Canada
GEO:55.75629;-118.711043
X-APPLE-STRUCTURED-LOCATION;VALUE=URI;X-ADDRESS=Rycroft Village Office 4703 - 51 Street Rycroft Alberta T0H 3A0 Canada;X-APPLE-RADIUS=500;X-TITLE=4703 - 51 Street:geo:-118.711043,55.75629
END:VEVENT
BEGIN:VEVENT
DTSTART;VALUE=DATE:20201226
DTEND;VALUE=DATE:20201227
DTSTAMP:20260421T221250
CREATED:20191128T200009Z
LAST-MODIFIED:20191128T200009Z
UID:2018-1608940800-1609027199@rycroft.ca
SUMMARY:BOXING DAY
DESCRIPTION:
URL:https://rycroft.ca/event/boxing-day-3/
LOCATION:Rycroft\, Alberta\, T0H 3A0\, Canada
END:VEVENT
BEGIN:VEVENT
DTSTART;TZID=America/Edmonton:20210531T080000
DTEND;TZID=America/Edmonton:20210531T090000
DTSTAMP:20260421T221250
CREATED:20210520T154718Z
LAST-MODIFIED:20210520T154718Z
UID:4003-1622448000-1622451600@rycroft.ca
SUMMARY:RECYCLING PICKUP
DESCRIPTION:Curbside recycling must be clean and in a clear bag.
URL:https://rycroft.ca/event/recycling-pickup/
LOCATION:Rycroft\, Alberta\, T0H 3A0\, Canada
GEO:55.7559644;-118.7114513
END:VEVENT
BEGIN:VEVENT
DTSTART;TZID=America/Edmonton:20210614T080000
DTEND;TZID=America/Edmonton:20210614T090000
DTSTAMP:20260421T221250
CREATED:20210520T154938Z
LAST-MODIFIED:20210520T154938Z
UID:4005-1623657600-1623661200@rycroft.ca
SUMMARY:RECYCLING PICKUP
DESCRIPTION:Curbside recycling must be clean and in a clear bag.
URL:https://rycroft.ca/event/recycling-pickup-2/
LOCATION:Rycroft\, Alberta\, T0H 3A0\, Canada
GEO:55.7559644;-118.7114513
END:VEVENT
BEGIN:VEVENT
DTSTART;TZID=America/Edmonton:20210628T080000
DTEND;TZID=America/Edmonton:20210628T090000
DTSTAMP:20260421T221250
CREATED:20210520T155419Z
LAST-MODIFIED:20210520T155419Z
UID:4009-1624867200-1624870800@rycroft.ca
SUMMARY:RECYCLING PICKUP
DESCRIPTION:Curbside recycling must be clean and in a clear bag.
URL:https://rycroft.ca/event/recycling-pickup-3/
LOCATION:Rycroft\, Alberta\, T0H 3A0\, Canada
GEO:55.7559644;-118.7114513
END:VEVENT
BEGIN:VEVENT
DTSTART;TZID=America/Edmonton:20210712T080000
DTEND;TZID=America/Edmonton:20210712T090000
DTSTAMP:20260421T221250
CREATED:20210607T201546Z
LAST-MODIFIED:20210607T201546Z
UID:4079-1626076800-1626080400@rycroft.ca
SUMMARY:RECYCLING PICKUP
DESCRIPTION:Curbside recycling pickup
URL:https://rycroft.ca/event/recycling-pickup-4/
LOCATION:Rycroft\, Alberta\, T0H 3A0\, Canada
GEO:55.7559644;-118.7114513
END:VEVENT
BEGIN:VEVENT
DTSTART;TZID=America/Edmonton:20210726T080000
DTEND;TZID=America/Edmonton:20210726T090000
DTSTAMP:20260421T221250
CREATED:20210616T153211Z
LAST-MODIFIED:20210616T153211Z
UID:4105-1627286400-1627290000@rycroft.ca
SUMMARY:RECYCLING PICKUP
DESCRIPTION:Curbside recycling must be clean and in a clear bag.
URL:https://rycroft.ca/event/recycling-pickup-5/
LOCATION:Rycroft\, Alberta\, T0H 3A0\, Canada
GEO:55.7559644;-118.7114513
END:VEVENT
BEGIN:VEVENT
DTSTART;TZID=America/Edmonton:20210809T080000
DTEND;TZID=America/Edmonton:20210809T090000
DTSTAMP:20260421T221250
CREATED:20210712T224104Z
LAST-MODIFIED:20210712T224104Z
UID:4161-1628496000-1628499600@rycroft.ca
SUMMARY:RECYCLING PICKUP
DESCRIPTION:Curbside recycling must be clean and in a clear bag.
URL:https://rycroft.ca/event/recycling-pickup-6/2021-08-09/
LOCATION:Rycroft\, Alberta\, T0H 3A0\, Canada
GEO:55.7559644;-118.7114513
END:VEVENT
END:VCALENDAR